Package: easyreporting Version: 1.16.0 Command: E:\biocbuild\bbs-3.19-bioc\R\bin\R.exe CMD INSTALL easyreporting StartedAt: 2024-10-16 16:41:05 -0400 (Wed, 16 Oct 2024) EndedAt: 2024-10-16 16:41:57 -0400 (Wed, 16 Oct 2024) EllapsedTime: 51.9 seconds RetCode: 0 Status: OK