Package: ecolitk Version: 1.76.0 Command: /Library/Frameworks/R.framework/Resources/bin/R CMD build --keep-empty-dirs --no-resave-data ecolitk StartedAt: 2024-10-16 23:49:58 -0400 (Wed, 16 Oct 2024) EndedAt: 2024-10-16 23:50:19 -0400 (Wed, 16 Oct 2024) EllapsedTime: 21.7 seconds RetCode: 0 Status: OK PackageFile: ecolitk_1.76.0.tar.gz PackageFileSize: 1.829 MiB