Package: ecolitk Version: 1.76.0 Command: rm -rf ecolitk.buildbin-libdir && mkdir ecolitk.buildbin-libdir && /Users/biocbuild/BBS/utils/build-universal.sh ecolitk_1.76.0.tar.gz /Library/Frameworks/R.framework/Resources/bin/R ecolitk.buildbin-libdir StartedAt: 2024-06-11 11:03:47 -0400 (Tue, 11 Jun 2024) EndedAt: 2024-06-11 11:03:56 -0400 (Tue, 11 Jun 2024) EllapsedTime: 9.0 seconds RetCode: 0 Status: OK PackageFile: ecolitk_1.76.0.tgz PackageFileSize: 1.874 MiB