Package: ecolitk Version: 1.76.0 Command: /home/biocbuild/R/R-beta-2024-04-15_r86425/bin/R CMD check --install=check:ecolitk.install-out.txt --library=/home/biocbuild/R/R-beta-2024-04-15_r86425/site-library --no-vignettes --timings ecolitk_1.76.0.tar.gz StartedAt: 2024-05-09 07:03:19 -0000 (Thu, 09 May 2024) EndedAt: 2024-05-09 07:03:52 -0000 (Thu, 09 May 2024) EllapsedTime: 33.1 seconds RetCode: 0 Status: WARNINGS CheckDir: ecolitk.Rcheck Warnings: 1