Package: ecolitk Version: 1.76.0 Command: rm -rf ecolitk.buildbin-libdir && mkdir ecolitk.buildbin-libdir && F:\biocbuild\bbs-3.19-bioc\R\bin\R.exe CMD INSTALL --build --library=ecolitk.buildbin-libdir ecolitk_1.76.0.tar.gz StartedAt: 2024-06-27 08:09:30 -0400 (Thu, 27 Jun 2024) EndedAt: 2024-06-27 08:09:36 -0400 (Thu, 27 Jun 2024) EllapsedTime: 5.9 seconds RetCode: 0 Status: OK PackageFile: ecolitk_1.76.0.zip PackageFileSize: 1.733 MiB