Package: ecolitk Version: 1.76.0 Command: F:\biocbuild\bbs-3.19-bioc\R\bin\R.exe CMD INSTALL ecolitk StartedAt: 2024-06-26 15:39:36 -0400 (Wed, 26 Jun 2024) EndedAt: 2024-06-26 15:39:53 -0400 (Wed, 26 Jun 2024) EllapsedTime: 16.2 seconds RetCode: 0 Status: OK