Package: ecolitk Version: 1.76.0 Command: rm -rf ecolitk.buildbin-libdir && mkdir ecolitk.buildbin-libdir && E:\biocbuild\bbs-3.19-bioc\R\bin\R.exe CMD INSTALL --build --library=ecolitk.buildbin-libdir ecolitk_1.76.0.tar.gz StartedAt: 2024-10-17 07:44:00 -0400 (Thu, 17 Oct 2024) EndedAt: 2024-10-17 07:44:09 -0400 (Thu, 17 Oct 2024) EllapsedTime: 9.1 seconds RetCode: 0 Status: OK PackageFile: ecolitk_1.76.0.zip PackageFileSize: 1.734 MiB