Package: edgeR Version: 4.2.2 Maintainer: Yunshun Chen , Gordon Smyth , Aaron Lun , Mark Robinson MaintainerEmail: mark.robinson at imls.uzh.ch git_url: https://git.bioconductor.org/packages/edgeR git_branch: RELEASE_3_19 git_last_commit: d50e802 git_last_commit_date: 2024-10-10 21:57:29 -0400 (Thu, 10 Oct 2024)