Package: edgeR Version: 4.2.2 Command: rm -rf edgeR.buildbin-libdir && mkdir edgeR.buildbin-libdir && /Users/biocbuild/BBS/utils/build-universal.sh edgeR_4.2.2.tar.gz /Library/Frameworks/R.framework/Resources/bin/R edgeR.buildbin-libdir StartedAt: 2024-10-18 18:18:31 -0400 (Fri, 18 Oct 2024) EndedAt: 2024-10-18 18:19:56 -0400 (Fri, 18 Oct 2024) EllapsedTime: 85.2 seconds RetCode: 0 Status: OK PackageFile: edgeR_4.2.2.tgz PackageFileSize: 2.721 MiB