Package: edgeR Version: 4.2.0 Command: /home/biocbuild/R/R-beta-2024-04-15_r86425/bin/R CMD check --install=check:edgeR.install-out.txt --library=/home/biocbuild/R/R-beta-2024-04-15_r86425/site-library --no-vignettes --timings edgeR_4.2.0.tar.gz StartedAt: 2024-05-09 07:03:30 -0000 (Thu, 09 May 2024) EndedAt: 2024-05-09 07:05:12 -0000 (Thu, 09 May 2024) EllapsedTime: 102.2 seconds RetCode: 0 Status: OK CheckDir: edgeR.Rcheck Warnings: 0