Package: edgeR Version: 4.2.2 Command: /home/biocbuild/bbs-3.19-bioc/R/bin/R CMD check --install=check:edgeR.install-out.txt --library=/home/biocbuild/bbs-3.19-bioc/R/site-library --timings edgeR_4.2.2.tar.gz StartedAt: 2024-10-17 00:02:50 -0400 (Thu, 17 Oct 2024) EndedAt: 2024-10-17 00:04:13 -0400 (Thu, 17 Oct 2024) EllapsedTime: 83.2 seconds RetCode: 0 Status: OK CheckDir: edgeR.Rcheck Warnings: 0