Package: eiR Version: 1.44.0 Command: /Library/Frameworks/R.framework/Resources/bin/R CMD INSTALL eiR StartedAt: 2024-10-16 18:36:17 -0400 (Wed, 16 Oct 2024) EndedAt: 2024-10-16 18:36:27 -0400 (Wed, 16 Oct 2024) EllapsedTime: 9.5 seconds RetCode: 0 Status: OK