Package: eiR Version: 1.44.0 Command: rm -rf eiR.buildbin-libdir && mkdir eiR.buildbin-libdir && E:\biocbuild\bbs-3.19-bioc\R\bin\R.exe CMD INSTALL --build --library=eiR.buildbin-libdir eiR_1.44.0.tar.gz StartedAt: 2024-10-17 07:44:27 -0400 (Thu, 17 Oct 2024) EndedAt: 2024-10-17 07:45:00 -0400 (Thu, 17 Oct 2024) EllapsedTime: 33.2 seconds RetCode: 0 Status: OK PackageFile: eiR_1.44.0.zip PackageFileSize: 516.7 KiB