Package: eisaR Version: 1.16.0 Command: /Library/Frameworks/R.framework/Resources/bin/R CMD build --keep-empty-dirs --no-resave-data eisaR StartedAt: 2024-10-16 23:52:25 -0400 (Wed, 16 Oct 2024) EndedAt: 2024-10-16 23:54:28 -0400 (Wed, 16 Oct 2024) EllapsedTime: 123.0 seconds RetCode: 0 Status: OK PackageFile: eisaR_1.16.0.tar.gz PackageFileSize: 1.726 MiB