Package: eisaR Version: 1.16.0 Command: /Library/Frameworks/R.framework/Resources/bin/R CMD check --install=check:eisaR.install-out.txt --library=/Library/Frameworks/R.framework/Resources/library --no-vignettes --timings eisaR_1.16.0.tar.gz StartedAt: 2024-10-17 04:45:39 -0400 (Thu, 17 Oct 2024) EndedAt: 2024-10-17 04:55:18 -0400 (Thu, 17 Oct 2024) EllapsedTime: 579.0 seconds RetCode: 0 Status: OK CheckDir: eisaR.Rcheck Warnings: 0