Package: eisaR Version: 1.16.0 Command: chmod a+r eisaR -R && F:\biocbuild\bbs-3.19-bioc\R\bin\R.exe CMD build --keep-empty-dirs --no-resave-data eisaR StartedAt: 2024-06-26 18:34:01 -0400 (Wed, 26 Jun 2024) EndedAt: 2024-06-26 18:36:38 -0400 (Wed, 26 Jun 2024) EllapsedTime: 157.6 seconds RetCode: 0 Status: OK PackageFile: eisaR_1.16.0.tar.gz PackageFileSize: 1.433 MiB