Package: eisaR Version: 1.16.0 Command: rm -rf eisaR.buildbin-libdir && mkdir eisaR.buildbin-libdir && E:\biocbuild\bbs-3.19-bioc\R\bin\R.exe CMD INSTALL --build --library=eisaR.buildbin-libdir eisaR_1.16.0.tar.gz StartedAt: 2024-10-17 07:44:29 -0400 (Thu, 17 Oct 2024) EndedAt: 2024-10-17 07:45:06 -0400 (Thu, 17 Oct 2024) EllapsedTime: 37.1 seconds RetCode: 0 Status: OK PackageFile: eisaR_1.16.0.zip PackageFileSize: 1.462 MiB