Package: eisaR Version: 1.16.0 Command: chmod a+r eisaR -R && E:\biocbuild\bbs-3.19-bioc\R\bin\R.exe CMD build --keep-empty-dirs --no-resave-data eisaR StartedAt: 2024-10-16 18:50:21 -0400 (Wed, 16 Oct 2024) EndedAt: 2024-10-16 18:52:32 -0400 (Wed, 16 Oct 2024) EllapsedTime: 131.5 seconds RetCode: 0 Status: OK PackageFile: eisaR_1.16.0.tar.gz PackageFileSize: 1.431 MiB