Package: enhancerHomologSearch Version: 1.10.0 Command: rm -rf enhancerHomologSearch.buildbin-libdir && mkdir enhancerHomologSearch.buildbin-libdir && /Users/biocbuild/BBS/utils/build-universal.sh enhancerHomologSearch_1.10.0.tar.gz /Library/Frameworks/R.framework/Resources/bin/R enhancerHomologSearch.buildbin-libdir StartedAt: 2024-10-18 18:19:57 -0400 (Fri, 18 Oct 2024) EndedAt: 2024-10-18 18:25:55 -0400 (Fri, 18 Oct 2024) EllapsedTime: 358.0 seconds RetCode: 0 Status: OK PackageFile: enhancerHomologSearch_1.10.0.tgz PackageFileSize: 1.875 MiB