Package: enhancerHomologSearch Version: 1.10.0 Command: /Library/Frameworks/R.framework/Resources/bin/R CMD build --keep-empty-dirs --no-resave-data enhancerHomologSearch StartedAt: 2024-10-16 23:54:35 -0400 (Wed, 16 Oct 2024) EndedAt: 2024-10-17 00:09:42 -0400 (Thu, 17 Oct 2024) EllapsedTime: 907.2 seconds RetCode: 0 Status: OK PackageFile: enhancerHomologSearch_1.10.0.tar.gz PackageFileSize: 1.043 MiB