Package: enhancerHomologSearch Version: 1.10.0 Command: /home/biocbuild/bbs-3.19-bioc/R/bin/R CMD INSTALL enhancerHomologSearch StartedAt: 2024-10-16 16:10:15 -0400 (Wed, 16 Oct 2024) EndedAt: 2024-10-16 16:14:34 -0400 (Wed, 16 Oct 2024) EllapsedTime: 259.2 seconds RetCode: 0 Status: OK