Package: enrichViewNet Version: 1.2.0 Command: /Library/Frameworks/R.framework/Resources/bin/R CMD build --keep-empty-dirs --no-resave-data enrichViewNet StartedAt: 2024-10-17 00:00:02 -0400 (Thu, 17 Oct 2024) EndedAt: 2024-10-17 00:01:06 -0400 (Thu, 17 Oct 2024) EllapsedTime: 64.9 seconds RetCode: 0 Status: OK PackageFile: enrichViewNet_1.2.0.tar.gz PackageFileSize: 4.47 MiB