Package: enrichViewNet Version: 1.2.0 Command: /Library/Frameworks/R.framework/Resources/bin/R CMD INSTALL enrichViewNet StartedAt: 2024-10-16 16:28:00 -0400 (Wed, 16 Oct 2024) EndedAt: 2024-10-16 16:28:57 -0400 (Wed, 16 Oct 2024) EllapsedTime: 57.4 seconds RetCode: 0 Status: OK