Package: enrichViewNet Version: 1.2.0 Command: rm -rf enrichViewNet.buildbin-libdir && mkdir enrichViewNet.buildbin-libdir && E:\biocbuild\bbs-3.19-bioc\R\bin\R.exe CMD INSTALL --build --library=enrichViewNet.buildbin-libdir enrichViewNet_1.2.0.tar.gz StartedAt: 2024-10-17 07:45:02 -0400 (Thu, 17 Oct 2024) EndedAt: 2024-10-17 07:46:11 -0400 (Thu, 17 Oct 2024) EllapsedTime: 69.8 seconds RetCode: 0 Status: OK PackageFile: enrichViewNet_1.2.0.zip PackageFileSize: 2.57 MiB