Package: ensemblVEP Version: 1.46.0 Command: /Library/Frameworks/R.framework/Resources/bin/R CMD INSTALL ensemblVEP StartedAt: 2024-10-16 16:40:10 -0400 (Wed, 16 Oct 2024) EndedAt: 2024-10-16 16:40:58 -0400 (Wed, 16 Oct 2024) EllapsedTime: 48.9 seconds RetCode: 0 Status: OK