Package: ensembldb Version: 2.28.1 Command: /Library/Frameworks/R.framework/Resources/bin/R CMD check --install=check:ensembldb.install-out.txt --library=/Library/Frameworks/R.framework/Resources/library --no-vignettes --timings ensembldb_2.28.1.tar.gz StartedAt: 2024-10-17 20:47:07 -0400 (Thu, 17 Oct 2024) EndedAt: 2024-10-17 21:05:19 -0400 (Thu, 17 Oct 2024) EllapsedTime: 1091.5 seconds RetCode: 0 Status: OK CheckDir: ensembldb.Rcheck Warnings: 0