Package: ensembldb Version: 2.28.1 Command: /Library/Frameworks/R.framework/Resources/bin/R CMD INSTALL ensembldb StartedAt: 2024-10-16 16:31:15 -0400 (Wed, 16 Oct 2024) EndedAt: 2024-10-16 16:32:04 -0400 (Wed, 16 Oct 2024) EllapsedTime: 49.0 seconds RetCode: 0 Status: OK