Package: ensembldb Version: 2.28.1 Command: /home/biocbuild/bbs-3.19-bioc/R/bin/R CMD build --keep-empty-dirs --no-resave-data ensembldb StartedAt: 2024-10-16 18:21:06 -0400 (Wed, 16 Oct 2024) EndedAt: 2024-10-16 18:22:54 -0400 (Wed, 16 Oct 2024) EllapsedTime: 108.2 seconds RetCode: 0 Status: OK PackageFile: ensembldb_2.28.1.tar.gz PackageFileSize: 3.208 MiB