Package: ensembldb Version: 2.28.1 Command: chmod a+r ensembldb -R && E:\biocbuild\bbs-3.19-bioc\R\bin\R.exe CMD build --keep-empty-dirs --no-resave-data ensembldb StartedAt: 2024-10-16 18:52:45 -0400 (Wed, 16 Oct 2024) EndedAt: 2024-10-16 18:58:18 -0400 (Wed, 16 Oct 2024) EllapsedTime: 333.6 seconds RetCode: 0 Status: OK PackageFile: ensembldb_2.28.1.tar.gz PackageFileSize: 3.116 MiB