Package: epialleleR Version: 1.12.0 Command: rm -rf epialleleR.buildbin-libdir && mkdir epialleleR.buildbin-libdir && /Users/biocbuild/BBS/utils/build-universal.sh epialleleR_1.12.0.tar.gz /Library/Frameworks/R.framework/Resources/bin/R epialleleR.buildbin-libdir StartedAt: 2024-10-17 16:06:00 -0400 (Thu, 17 Oct 2024) EndedAt: 2024-10-17 16:09:32 -0400 (Thu, 17 Oct 2024) EllapsedTime: 212.4 seconds RetCode: 0 Status: OK PackageFile: epialleleR_1.12.0.tgz PackageFileSize: 4.501 MiB