Package: epiregulon.extra Version: 1.0.0 Command: /Library/Frameworks/R.framework/Resources/bin/R CMD INSTALL epiregulon.extra StartedAt: 2024-06-09 15:40:14 -0400 (Sun, 09 Jun 2024) EndedAt: 2024-06-09 15:40:49 -0400 (Sun, 09 Jun 2024) EllapsedTime: 35.2 seconds RetCode: 0 Status: OK