Package: epiregulon.extra Version: 1.0.1 Command: /home/biocbuild/bbs-3.19-bioc/R/bin/R CMD build --keep-empty-dirs --no-resave-data epiregulon.extra StartedAt: 2024-10-16 18:23:14 -0400 (Wed, 16 Oct 2024) EndedAt: 2024-10-16 18:25:47 -0400 (Wed, 16 Oct 2024) EllapsedTime: 153.3 seconds RetCode: 0 Status: OK PackageFile: epiregulon.extra_1.0.1.tar.gz PackageFileSize: 3.122 MiB