Package: epiregulon.extra Version: 1.0.1 Command: /home/biocbuild/bbs-3.19-bioc/R/bin/R CMD check --install=check:epiregulon.extra.install-out.txt --library=/home/biocbuild/bbs-3.19-bioc/R/site-library --timings epiregulon.extra_1.0.1.tar.gz StartedAt: 2024-10-17 00:11:11 -0400 (Thu, 17 Oct 2024) EndedAt: 2024-10-17 00:18:20 -0400 (Thu, 17 Oct 2024) EllapsedTime: 428.8 seconds RetCode: 0 Status: OK CheckDir: epiregulon.extra.Rcheck Warnings: 0