Package: epiregulon Version: 1.0.1 Command: rm -rf epiregulon.buildbin-libdir && mkdir epiregulon.buildbin-libdir && /Users/biocbuild/BBS/utils/build-universal.sh epiregulon_1.0.1.tar.gz /Library/Frameworks/R.framework/Resources/bin/R epiregulon.buildbin-libdir StartedAt: 2024-10-17 16:06:27 -0400 (Thu, 17 Oct 2024) EndedAt: 2024-10-17 16:08:00 -0400 (Thu, 17 Oct 2024) EllapsedTime: 93.1 seconds RetCode: 0 Status: OK PackageFile: epiregulon_1.0.1.tgz PackageFileSize: 1.405 MiB