Package: epivizrServer Version: 1.32.0 Command: rm -rf epivizrServer.buildbin-libdir && mkdir epivizrServer.buildbin-libdir && /Users/biocbuild/BBS/utils/build-universal.sh epivizrServer_1.32.0.tar.gz /Library/Frameworks/R.framework/Resources/bin/R epivizrServer.buildbin-libdir StartedAt: 2024-10-18 18:24:37 -0400 (Fri, 18 Oct 2024) EndedAt: 2024-10-18 18:24:44 -0400 (Fri, 18 Oct 2024) EllapsedTime: 6.8 seconds RetCode: 0 Status: OK PackageFile: epivizrServer_1.32.0.tgz PackageFileSize: 454.4 KiB