Package: epivizrServer Version: 1.32.0 Command: /Library/Frameworks/R.framework/Resources/bin/R CMD build --keep-empty-dirs --no-resave-data epivizrServer StartedAt: 2024-10-17 00:12:59 -0400 (Thu, 17 Oct 2024) EndedAt: 2024-10-17 00:13:08 -0400 (Thu, 17 Oct 2024) EllapsedTime: 9.2 seconds RetCode: 0 Status: OK PackageFile: epivizrServer_1.32.0.tar.gz PackageFileSize: 229.9 KiB