Package: epivizrServer Version: 1.32.0 Command: rm -rf epivizrServer.buildbin-libdir && mkdir epivizrServer.buildbin-libdir && /Users/biocbuild/BBS/utils/build-universal.sh epivizrServer_1.32.0.tar.gz /Library/Frameworks/R.framework/Resources/bin/R epivizrServer.buildbin-libdir StartedAt: 2024-06-11 11:08:37 -0400 (Tue, 11 Jun 2024) EndedAt: 2024-06-11 11:08:50 -0400 (Tue, 11 Jun 2024) EllapsedTime: 12.3 seconds RetCode: 0 Status: OK PackageFile: epivizrServer_1.32.0.tgz PackageFileSize: 455.6 KiB