Package: epivizrServer Version: 1.32.0 Command: /home/biocbuild/R/R-beta-2024-04-15_r86425/bin/R CMD build --keep-empty-dirs --no-resave-data epivizrServer StartedAt: 2024-05-09 00:10:43 -0000 (Thu, 09 May 2024) EndedAt: 2024-05-09 00:10:52 -0000 (Thu, 09 May 2024) EllapsedTime: 9.0 seconds RetCode: 0 Status: OK PackageFile: epivizrServer_1.32.0.tar.gz PackageFileSize: 255.9 KiB