Package: epivizrServer Version: 1.32.0 Command: rm -rf epivizrServer.buildbin-libdir && mkdir epivizrServer.buildbin-libdir && /Users/biocbuild/BBS/utils/build-universal.sh epivizrServer_1.32.0.tar.gz /Library/Frameworks/R.framework/Resources/bin/R epivizrServer.buildbin-libdir StartedAt: 2024-06-10 00:17:08 -0400 (Mon, 10 Jun 2024) EndedAt: 2024-06-10 00:17:16 -0400 (Mon, 10 Jun 2024) EllapsedTime: 7.8 seconds RetCode: 0 Status: OK PackageFile: epivizrServer_1.32.0.tgz PackageFileSize: 455.7 KiB