Package: epivizrServer Version: 1.32.0 Command: rm -rf epivizrServer.buildbin-libdir && mkdir epivizrServer.buildbin-libdir && /Users/biocbuild/BBS/utils/build-universal.sh epivizrServer_1.32.0.tar.gz /Library/Frameworks/R.framework/Resources/bin/R epivizrServer.buildbin-libdir StartedAt: 2024-10-17 16:07:10 -0400 (Thu, 17 Oct 2024) EndedAt: 2024-10-17 16:07:22 -0400 (Thu, 17 Oct 2024) EllapsedTime: 11.7 seconds RetCode: 0 Status: OK PackageFile: epivizrServer_1.32.0.tgz PackageFileSize: 454.4 KiB