Package: epivizrServer Version: 1.32.0 Command: /Library/Frameworks/R.framework/Resources/bin/R CMD build --keep-empty-dirs --no-resave-data epivizrServer StartedAt: 2024-10-16 19:05:00 -0400 (Wed, 16 Oct 2024) EndedAt: 2024-10-16 19:05:22 -0400 (Wed, 16 Oct 2024) EllapsedTime: 22.3 seconds RetCode: 0 Status: OK PackageFile: epivizrServer_1.32.0.tar.gz PackageFileSize: 229.9 KiB