Package: epivizrServer Version: 1.32.0 Command: /home/biocbuild/bbs-3.19-bioc/R/bin/R CMD build --keep-empty-dirs --no-resave-data epivizrServer StartedAt: 2024-10-16 18:25:03 -0400 (Wed, 16 Oct 2024) EndedAt: 2024-10-16 18:25:09 -0400 (Wed, 16 Oct 2024) EllapsedTime: 6.0 seconds RetCode: 0 Status: OK PackageFile: epivizrServer_1.32.0.tar.gz PackageFileSize: 229.9 KiB