Package: epivizrServer Version: 1.32.0 Command: rm -rf epivizrServer.buildbin-libdir && mkdir epivizrServer.buildbin-libdir && F:\biocbuild\bbs-3.19-bioc\R\bin\R.exe CMD INSTALL --build --library=epivizrServer.buildbin-libdir epivizrServer_1.32.0.tar.gz StartedAt: 2024-06-27 08:11:05 -0400 (Thu, 27 Jun 2024) EndedAt: 2024-06-27 08:11:14 -0400 (Thu, 27 Jun 2024) EllapsedTime: 9.1 seconds RetCode: 0 Status: OK PackageFile: epivizrServer_1.32.0.zip PackageFileSize: 459.7 KiB