Package: epivizrServer Version: 1.32.0 Command: chmod a+r epivizrServer -R && E:\biocbuild\bbs-3.19-bioc\R\bin\R.exe CMD build --keep-empty-dirs --no-resave-data epivizrServer StartedAt: 2024-10-16 19:01:17 -0400 (Wed, 16 Oct 2024) EndedAt: 2024-10-16 19:01:29 -0400 (Wed, 16 Oct 2024) EllapsedTime: 12.0 seconds RetCode: 0 Status: OK PackageFile: epivizrServer_1.32.0.tar.gz PackageFileSize: 230 KiB