Package: erccdashboard Version: 1.38.0 Command: /Library/Frameworks/R.framework/Resources/bin/R CMD build --keep-empty-dirs --no-resave-data erccdashboard StartedAt: 2024-06-09 16:36:24 -0400 (Sun, 09 Jun 2024) EndedAt: 2024-06-09 16:37:18 -0400 (Sun, 09 Jun 2024) EllapsedTime: 53.9 seconds RetCode: 0 Status: OK PackageFile: erccdashboard_1.38.0.tar.gz PackageFileSize: 1.881 MiB