Package: erccdashboard Version: 1.38.0 Command: /Library/Frameworks/R.framework/Resources/bin/R CMD check --install=check:erccdashboard.install-out.txt --library=/Library/Frameworks/R.framework/Resources/library --no-vignettes --timings erccdashboard_1.38.0.tar.gz StartedAt: 2024-06-09 20:14:54 -0400 (Sun, 09 Jun 2024) EndedAt: 2024-06-09 20:16:05 -0400 (Sun, 09 Jun 2024) EllapsedTime: 71.1 seconds RetCode: 0 Status: OK CheckDir: erccdashboard.Rcheck Warnings: 0