Package: erma Version: 1.20.0 Command: rm -rf erma.buildbin-libdir && mkdir erma.buildbin-libdir && /Users/biocbuild/BBS/utils/build-universal.sh erma_1.20.0.tar.gz /Library/Frameworks/R.framework/Resources/bin/R erma.buildbin-libdir StartedAt: 2024-10-18 18:25:00 -0400 (Fri, 18 Oct 2024) EndedAt: 2024-10-18 18:26:40 -0400 (Fri, 18 Oct 2024) EllapsedTime: 99.8 seconds RetCode: 0 Status: OK PackageFile: erma_1.20.0.tgz PackageFileSize: 198.5 MiB