Package: erma Version: 1.20.0 Command: /Library/Frameworks/R.framework/Resources/bin/R CMD build --keep-empty-dirs --no-resave-data erma StartedAt: 2024-10-17 00:14:05 -0400 (Thu, 17 Oct 2024) EndedAt: 2024-10-17 00:16:08 -0400 (Thu, 17 Oct 2024) EllapsedTime: 123.4 seconds RetCode: 0 Status: OK PackageFile: erma_1.20.0.tar.gz PackageFileSize: 198.1 MiB