Package: erma Version: 1.20.0 Command: /Library/Frameworks/R.framework/Resources/bin/R CMD check --install=check:erma.install-out.txt --library=/Library/Frameworks/R.framework/Resources/library --no-vignettes --timings erma_1.20.0.tar.gz StartedAt: 2024-10-17 21:08:58 -0400 (Thu, 17 Oct 2024) EndedAt: 2024-10-17 21:16:14 -0400 (Thu, 17 Oct 2024) EllapsedTime: 436.0 seconds RetCode: 0 Status: OK CheckDir: erma.Rcheck Warnings: 0