Package: erma Version: 1.20.0 Command: /Library/Frameworks/R.framework/Resources/bin/R CMD INSTALL erma StartedAt: 2024-10-16 17:15:44 -0400 (Wed, 16 Oct 2024) EndedAt: 2024-10-16 17:16:43 -0400 (Wed, 16 Oct 2024) EllapsedTime: 59.2 seconds RetCode: 0 Status: OK